Workbook

Sheet Költségösszesítő
A1: Egy példányban kitöltve, eredeti aláírással és bélyegzéssel ellátva kell benyújtani.
A2: Az űrlap másolható, alakját és tartalmát kérjük, ne változtassa meg!
A4: Elszámolt költségek összesítő
A6: Számviteli bizonylat a(z) MOME Proof of Concept Kreatívipari Tudástranszfer Program című, 2024-2.1.3-POC-2025-00001 számú támogatói dokumentumban foglalt források felhasználásának elszámolásához
A7: A bizonylat formájára és tartalmára a számvitelről szóló 2000. évi C. törvény előírásai az irányadók
A8: Kedvezményezett: | D8: Támogatást nyújtó:
D9: MOME 925 Kreatívipar Innovációmenedzsment Korlátolt Felelősségű Társaság
A10: Kedvezményezett intézmény neve: Moholy-Nagy Művészei Egyetem | D10: címe: 1121 Budapest, Zugligeti út 9-25
A12: címe: 1121 Budapest, Zugligeti út 9-25 | D12: Számlavezető pénzintézet:
A13: Adóazonosító száma: 19253172-2-43 | D13: OTP Bank Nyrt
A14: Számlavezető intézet: OTP Bank Nyrt. | D14: száma:
D15: 11784009-22248989-00000000
A16: Pénzforgalmi jelzőszáma:
A17: 11784009-22232403-00000001
A18: Teljesítés időpontja | C18: Bizonylat kelte: | D18: Elszámolási bizonylat sorszáma:
A19: POC Szerződés száma:
A20: Elszámolási időszak kezdete - vége
A21: ….. év …. hó ... nap | C21: …... év ... hó ... nap
A22: Költség kategória | B22: Költség fajta | D22: Támogatás összege (Ft)
A23: Személyi jellegű juttatások | B23: Célfeladat/többletfeladat | D23: =Célfeladat_többletfeladat!R45 -> 0
B24: Megbízási szerződés | D24: ='Megbízási szerződés'!R45 -> 0
A25: Immateriális javak és dologi kiadások | B25: Immateriális javak | D25: ='immat jav beszerz'!S26 -> 0
B26: Műszaki berendezések, gépek, járművek | D26: ='műszaki berendezések'!S25 -> 0
B27: Egyéb berendezések, gépek, járművek | D27: ='egyéb berendezések'!S25 -> 0
B28: Anyagköltség | D28: =' anyagköltség '!P20 -> 0
B29: Igénybe vett szolgáltatások költségei | D29: ='igénybe vett szolg'!P63 -> 0
B30: Egyéb szolgáltatások költségei | D30: ='egyéb szolgáltatások'!P25 -> 0
A31: Összes költség (Ft) | D31: =SUM(D23:F30) -> 0
A33: Elszámolt támogatás összesen: | C33: =D31 -> 0 | D33: azaz huszonhétmillió-ötvenhatezer-nyolcszáznegyvenhat Ft
A36: Dátum:
A37: kedvezményezett intézmény cégszerű aláírás (**) ……………………………………………………………………
D39: PH.

Sheet Projekt azonosító
A1: Kedvezményezett neve: | E1: Moholy-Nagy Művészei Egyetem
A2: POC Szerződésszám:
A3: Az elszámolással érintett időszak kezdete és vége:

Sheet Célfeladat_többletfeladat
B1: Kedvezményezett neve: | D1: ='Projekt azonosító'!E1 -> Moholy-Nagy Művészei Egyetem
B2: POC Szerződésszáma: | D2: ='Projekt azonosító'!E2 -> 0
B3: Az elszámolással érintett időszak kezdete és vége: | D3: ='Projekt azonosító'!E3 -> 0
B5: Személyi jellegű- CF/többletfeladat
B7: Projektben résztvevő | D7: Az elszámolt időszak | F7: Projektre elszámolni kívánt megbízási szerződés | I7: Projektre elszámolt egyéb juttatások (Ft) (pld. napidíj, stb.) | L7: Pénzügyi teljesítés időpontja | P7: Projektre elszámolt bruttó bér és juttatások összesen (Ft)
B8: neve | C8: Tevékenység kategóriája | D8: kezdete (dátum) | E8: vége (dátum) | F8: bruttó összege | G8: SZOCHO összege | H8: Összesen | I8: bruttó összege | J8: SZOCHO összege | K8: Összesen | L8: Nettó bér kifizetést igazoló bankkivonat dátuma | M8: Nettó bér kifizetést igazoló bankikivonat száma | N8: SZOCHO kifizetést igazoló bankkivonat dátuma | O8: SZOCHO kifizetést igazoló bankikivonat száma | P8: CF/többletfeladat | Q8: Egyéb juttatás | R8: Összsen
F9: 0 | G9: 0 | H9: =SUM(F9:G9) -> 0 | I9: 0 | J9: 0 | K9: =SUM(I9:J9) -> 0 | L9: 0 | M9: 0 | O9: 0 | P9: =F9+I9 -> 0 | Q9: =G9+J9 -> 0 | R9: =SUM(P9:Q9) -> 0
H10: =SUM(F10:G10) -> 0 | K10: =SUM(I10:J10) -> 0 | L10: 0 | M10: 0 | O10: 0 | P10: =F10+I10 -> 0 | Q10: =G10+J10 -> 0 | R10: =SUM(P10:Q10) -> 0
H11: =SUM(F11:G11) -> 0 | K11: =SUM(I11:J11) -> 0 | L11: 0 | M11: 0 | O11: 0 | P11: =F11+I11 -> 0 | Q11: =G11+J11 -> 0 | R11: =SUM(P11:Q11) -> 0
H12: =SUM(F12:G12) -> 0 | K12: =SUM(I12:J12) -> 0 | L12: 0 | M12: 0 | O12: 0 | P12: =F12+I12 -> 0 | Q12: =G12+J12 -> 0 | R12: =SUM(P12:Q12) -> 0
H13: =SUM(F13:G13) -> 0 | K13: =SUM(I13:J13) -> 0 | P13: =F13+I13 -> 0 | Q13: =G13+J13 -> 0 | R13: =SUM(P13:Q13) -> 0
H14: =SUM(F14:G14) -> 0 | K14: =SUM(I14:J14) -> 0 | P14: =F14+I14 -> 0 | Q14: =G14+J14 -> 0 | R14: =SUM(P14:Q14) -> 0
H15: =SUM(F15:G15) -> 0 | K15: =SUM(I15:J15) -> 0 | P15: =F15+I15 -> 0 | Q15: =G15+J15 -> 0 | R15: =SUM(P15:Q15) -> 0
H16: =SUM(F16:G16) -> 0 | K16: =SUM(I16:J16) -> 0 | P16: =F16+I16 -> 0 | Q16: =G16+J16 -> 0 | R16: =SUM(P16:Q16) -> 0
H17: =SUM(F17:G17) -> 0 | K17: =SUM(I17:J17) -> 0 | P17: =F17+I17 -> 0 | Q17: =G17+J17 -> 0 | R17: =SUM(P17:Q17) -> 0
H18: =SUM(F18:G18) -> 0 | K18: =SUM(I18:J18) -> 0 | P18: =F18+I18 -> 0 | Q18: =G18+J18 -> 0 | R18: =SUM(P18:Q18) -> 0
H19: =SUM(F19:G19) -> 0 | K19: =SUM(I19:J19) -> 0 | P19: =F19+I19 -> 0 | Q19: =G19+J19 -> 0 | R19: =SUM(P19:Q19) -> 0
H20: =SUM(F20:G20) -> 0 | K20: =SUM(I20:J20) -> 0 | P20: =F20+I20 -> 0 | Q20: =G20+J20 -> 0 | R20: =SUM(P20:Q20) -> 0
H21: =SUM(F21:G21) -> 0 | K21: =SUM(I21:J21) -> 0 | P21: =F21+I21 -> 0 | Q21: =G21+J21 -> 0 | R21: =SUM(P21:Q21) -> 0
H22: =SUM(F22:G22) -> 0 | K22: =SUM(I22:J22) -> 0 | P22: =F22+I22 -> 0 | Q22: =G22+J22 -> 0 | R22: =SUM(P22:Q22) -> 0
H23: =SUM(F23:G23) -> 0 | K23: =SUM(I23:J23) -> 0 | P23: =F23+I23 -> 0 | Q23: =G23+J23 -> 0 | R23: =SUM(P23:Q23) -> 0
H24: =SUM(F24:G24) -> 0 | K24: =SUM(I24:J24) -> 0 | P24: =F24+I24 -> 0 | Q24: =G24+J24 -> 0 | R24: =SUM(P24:Q24) -> 0
... H43: =SUM(F43:G43) -> 0 | K43: =SUM(I43:J43) -> 0 | P43: =F43+I43 -> 0 | Q43: =G43+J43 -> 0 | R43: =SUM(P43:Q43) -> 0
B45: összesen | F45: =SUM(F9:F43) -> 0 | G45: =SUM(G9:G43) -> 0 | H45: =SUM(H9:H43) -> 0 | I45: =SUM(I9:I43) -> 0 | J45: =SUM(J9:J43) -> 0 | K45: =SUM(K9:K43) -> 0 | L45: =SUM(L9:L43) -> 0 | M45: =SUM(M9:M43) -> 0 | O45: =SUM(O9:O43) -> 0 | P45: =SUM(P9:P43) -> 0 | Q45: =SUM(Q9:Q43) -> 0 | R45: =SUM(R9:R43) -> 0

Sheet Megbízási szerződés
B1: Kedvezményezett neve: | D1: ='Projekt azonosító'!E1 -> Moholy-Nagy Művészei Egyetem
B2: POC Szerződésszám: | D2: ='Projekt azonosító'!E2 -> 0
B3: Az elszámolással érintett időszak kezdete és vége: | D3: ='Projekt azonosító'!E3 -> 0
B5: Személyi jellegű - Megbízási szerződés
B7: Projektben résztvevő | D7: Az elszámolt időszak | F7: Projektre elszámolni kívánt CF / többletfeladat | I7: Projektre elszámolt egyéb juttatások (Ft) (pld. napidíj, stb.) | L7: Pénzügyi teljesítés időpontja | P7: Projektre elszámolt bruttó bér és juttatások összesen (Ft)
B8: neve | C8: Tevékenység kategóriája | D8: kezdete (dátum) | E8: vége (dátum) | F8: bruttó összege | G8: SZOCHO összege | H8: Összesen | I8: bruttó összege | J8: SZOCHO összege | K8: Összesen | L8: Nettó bér kifizetést igazoló bankkivonat dátuma | M8: Nettó bér kifizetést igazoló bankikivonat száma | N8: SZOCHO kifizetést igazoló bankkivonat dátuma | O8: SZOCHO kifizetést igazoló bankikivonat száma | P8: Támogatás | Q8: Saját forrás | R8: Egyéb forrás
F9: 0 | G9: 0 | H9: =SUM(F9:G9) -> 0 | I9: 0 | J9: 0 | K9: =SUM(I9:J9) -> 0 | P9: =F9+I9 -> 0 | Q9: =G9+J9 -> 0 | R9: =SUM(P9:Q9) -> 0
H10: =SUM(F10:G10) -> 0 | K10: =SUM(I10:J10) -> 0 | P10: =I10+M10 -> 0 | Q10: =K10+N10 -> 0 | R10: =L10+O10 -> 0
H11: =SUM(F11:G11) -> 0 | K11: =SUM(I11:J11) -> 0 | P11: =I11+M11 -> 0 | Q11: =K11+N11 -> 0 | R11: =L11+O11 -> 0
H12: =SUM(F12:G12) -> 0 | K12: =SUM(I12:J12) -> 0 | P12: =I12+M12 -> 0 | Q12: =K12+N12 -> 0 | R12: =L12+O12 -> 0
H13: =SUM(F13:G13) -> 0 | K13: =SUM(I13:J13) -> 0 | P13: =I13+M13 -> 0 | Q13: =K13+N13 -> 0 | R13: =L13+O13 -> 0
H14: =SUM(F14:G14) -> 0 | K14: =SUM(I14:J14) -> 0 | P14: =I14+M14 -> 0 | Q14: =K14+N14 -> 0 | R14: =L14+O14 -> 0
H15: =SUM(F15:G15) -> 0 | K15: =SUM(I15:J15) -> 0 | P15: =I15+M15 -> 0 | Q15: =K15+N15 -> 0 | R15: =L15+O15 -> 0
H16: =SUM(F16:G16) -> 0 | K16: =SUM(I16:J16) -> 0 | P16: =I16+M16 -> 0 | Q16: =K16+N16 -> 0 | R16: =L16+O16 -> 0
H17: =SUM(F17:G17) -> 0 | K17: =SUM(I17:J17) -> 0 | P17: =I17+M17 -> 0 | Q17: =K17+N17 -> 0 | R17: =L17+O17 -> 0
H18: =SUM(F18:G18) -> 0 | K18: =SUM(I18:J18) -> 0 | P18: =I18+M18 -> 0 | Q18: =K18+N18 -> 0 | R18: =L18+O18 -> 0
H19: =SUM(F19:G19) -> 0 | K19: =SUM(I19:J19) -> 0 | P19: =I19+M19 -> 0 | Q19: =K19+N19 -> 0 | R19: =L19+O19 -> 0
H20: =SUM(F20:G20) -> 0 | K20: =SUM(I20:J20) -> 0 | P20: =I20+M20 -> 0 | Q20: =K20+N20 -> 0 | R20: =L20+O20 -> 0
H21: =SUM(F21:G21) -> 0 | K21: =SUM(I21:J21) -> 0 | P21: =I21+M21 -> 0 | Q21: =K21+N21 -> 0 | R21: =L21+O21 -> 0
... H24: =SUM(F24:G24) -> 0 | K24: =SUM(I24:J24) -> 0 | P24: =I24+M24 -> 0 | Q24: =K24+N24 -> 0 | R24: =L24+O24 -> 0
H25: =SUM(F25:G25) -> 0 | K25: =SUM(I25:J25) -> 0 | P25: =I25+M25 -> 0 | Q25: =K25+N25 -> 0 | R25: 0
H26: =SUM(F26:G26) -> 0 | K26: =SUM(I26:J26) -> 0 | P26: =I26+M26 -> 0 | Q26: =K26+N26 -> 0 | R26: 0
H27: =SUM(F27:G27) -> 0 | K27: =SUM(I27:J27) -> 0 | P27: =I27+M27 -> 0 | Q27: =K27+N27 -> 0 | R27: 0
H28: =SUM(F28:G28) -> 0 | K28: =SUM(I28:J28) -> 0 | P28: =I28+M28 -> 0 | Q28: =K28+N28 -> 0 | R28: 0
H29: =SUM(F29:G29) -> 0 | K29: =SUM(I29:J29) -> 0 | P29: =I29+M29 -> 0 | Q29: =K29+N29 -> 0 | R29: 0
H30: =SUM(F30:G30) -> 0 | K30: =SUM(I30:J30) -> 0 | P30: =I30+M30 -> 0 | Q30: =K30+N30 -> 0 | R30: 0
H31: =SUM(F31:G31) -> 0 | K31: =SUM(I31:J31) -> 0 | P31: =I31+M31 -> 0 | Q31: =K31+N31 -> 0 | R31: 0
H32: =SUM(F32:G32) -> 0 | K32: =SUM(I32:J32) -> 0 | P32: =I32+M32 -> 0 | Q32: =K32+N32 -> 0 | R32: 0
H33: =SUM(F33:G33) -> 0 | K33: =SUM(I33:J33) -> 0 | P33: =I33+M33 -> 0 | Q33: =K33+N33 -> 0 | R33: 0
H34: =SUM(F34:G34) -> 0 | K34: =SUM(I34:J34) -> 0 | P34: =I34+M34 -> 0 | Q34: =K34+N34 -> 0 | R34: 0
H35: =SUM(F35:G35) -> 0 | K35: =SUM(I35:J35) -> 0 | P35: =I35+M35 -> 0 | Q35: =K35+N35 -> 0 | R35: 0
H36: =SUM(F36:G36) -> 0 | K36: =SUM(I36:J36) -> 0 | P36: =I36+M36 -> 0 | Q36: =K36+N36 -> 0 | R36: 0
... H43: =SUM(F43:G43) -> 0 | K43: =SUM(I43:J43) -> 0 | P43: =I43+M43 -> 0 | Q43: =K43+N43 -> 0 | R43: 0
B45: Összesen: | F45: =SUM(F9:F43) -> 0 | G45: =SUM(G9:G43) -> 0 | H45: =SUM(H9:H43) -> 0 | I45: =SUM(I9:I43) -> 0 | K45: =SUM(K9:K43) -> 0 | L45: =SUM(L9:L43) -> 0 | M45: =SUM(M9:M43) -> 0 | N45: =SUM(N9:N43) -> 0 | O45: =SUM(O9:O43) -> 0 | P45: =SUM(P9:P43) -> 0 | Q45: =SUM(Q9:Q43) -> 0 | R45: =SUM(R9:R43) -> 0

Sheet  anyagköltség 
A1: Kedvezményezett neve: | C1: ='Projekt azonosító'!E1 -> Moholy-Nagy Művészei Egyetem
A2: POC Szerződésszám: | C2: ='Projekt azonosító'!E2 -> 0
A3: Az elszámolással érintett időszak kezdete és vége: | C3: ='Projekt azonosító'!E3 -> 0
A5: Anyagköltség
A7: Sor-szám | B7: Számviteli bizonylat kiállítójának neve | C7: Adószáma | D7: Számviteli bizonylat sorszáma | E7: Kiállítás kelte | F7: Teljesítés dátuma | G7: Kifizetést igazoló bankkivonat dátuma | H7: Kifizetést igazoló bankkivonat száma | I7: Gazdasági esemény rövid leírása | J7: Összege (Ft) | M7: Projekt terhére elszámolt költségek (Ft)
A8: szám | J8: Bruttó | K8: Nettó | L8: ÁFA | M8: Bruttó | N8: Nettó | O8: ÁFA | P8: Összesen
A9: 1 | P9: =M9 -> 0
A10: 2 | P10: =M10 -> 0
A11: 3 | P11: =M11 -> 0
A12: 4 | P12: =M12 -> 0
A13: 5 | P13: =M13 -> 0
A14: 6 | P14: =M14 -> 0
A15: 7 | P15: =M15 -> 0
A16: 8 | P16: =M16 -> 0
A17: 9 | P17: =M17 -> 0
A18: 10 | P18: =M18 -> 0
A20: Összesen | J20: =SUM(J9:J18) -> 0 | K20: =SUM(K9:K18) -> 0 | L20: =SUM(L9:L18) -> 0 | M20: =SUM(M9:M18) -> 0 | N20: =SUM(N9:N18) -> 0 | O20: =SUM(O9:O18) -> 0 | P20: =SUM(P9:P18) -> 0

Sheet igénybe vett szolg
A1: Kedvezményezett neve: | C1: ='Projekt azonosító'!E1 -> Moholy-Nagy Művészei Egyetem
A2: POC Szerződésszám: | C2: ='Projekt azonosító'!E2 -> 0
A3: Az elszámolással érintett időszak kezdete és vége: | C3: ='Projekt azonosító'!E3 -> 0
A5: Igénybe vett szolgáltatások
A7: Sor-szám | B7: Számviteli bizonylat kiállítójának neve | C7: Adószáma | D7: Számviteli bizonylat sorszáma | E7: Kiállítás kelte | F7: Teljesítés dátuma | G7: Kifizetést igazoló bankkivonat dátuma | H7: Kifizetést igazoló bankkivonat száma | I7: Gazdasági esemény rövid leírása | J7: Összege (Ft) | M7: Projekt terhére elszámolt költségek (Ft)
A8: szám | J8: Bruttó | K8: Nettó | L8: ÁFA | M8: Bruttó | N8: Nettó | O8: ÁFA | P8: Összesen
A9: 1 | P9: =M9 -> 0
A10: 2 | P10: =M10 -> 0
A11: 3 | P11: =M11 -> 0
A12: 4 | P12: =M12 -> 0
A13: 5 | P13: =M13 -> 0
A14: 6 | P14: =M14 -> 0
A15: 7 | P15: =M15 -> 0
A16: 8 | P16: =M16 -> 0
A17: 9 | P17: =M17 -> 0
A18: 10 | P18: =M18 -> 0
A19: 11 | P19: =M19 -> 0
A20: 12 | P20: =M20 -> 0
... A33: 25 | P33: =M33 -> 0
P34: =M34 -> 0
P35: =M35 -> 0
P36: =M36 -> 0
P37: =M37 -> 0
P38: =M38 -> 0
P39: =M39 -> 0
P40: =M40 -> 0
P41: =M41 -> 0
P42: =M42 -> 0
P43: =M43 -> 0
P44: =M44 -> 0
P45: =M45 -> 0
... P59: =M59 -> 0
P60: =SUM(M60:O60) -> 0
P61: =SUM(M61:O61) -> 0
A63: Összesen | J63: =SUM(J9:J61) -> 0 | K63: =SUM(K9:K61) -> 0 | L63: =SUM(L9:L61) -> 0 | M63: =SUM(M9:M61) -> 0 | N63: =SUM(N9:N61) -> 0 | O63: =SUM(O9:O61) -> 0 | P63: =SUM(P9:P61) -> 0

Sheet egyéb szolgáltatások
A1: Kedvezményezett neve: | C1: ='Projekt azonosító'!E1 -> Moholy-Nagy Művészei Egyetem
A2: POC Szerződésszám: | C2: ='Projekt azonosító'!E2 -> 0
A3: Az elszámolással érintett időszak kezdete és vége: | C3: ='Projekt azonosító'!E3 -> 0
A5: EGYÉB SZOLGÁLTATÁSOK
A7: Sor-szám | B7: Számviteli bizonylat kiállítójának neve | C7: Adószáma | D7: Számviteli bizonylat sorszáma | E7: Kiállítás kelte | F7: Teljesítés dátuma | G7: Kifizetést igazoló bankkivonat dátuma | H7: Kifizetést igazoló bankkivonat száma | I7: Gazdasági esemény rövid leírása | J7: Számla összege (Ft) | M7: Projekt terhére elszámolt költségek (Ft)
A8: szám | J8: Bruttó | K8: Nettó | L8: ÁFA | M8: Bruttó | N8: Nettó | O8: ÁFA | P8: Összesen
P9: =SUM(M9:O9) -> 0
P10: =SUM(M10:O10) -> 0
P11: =SUM(M11:O11) -> 0
P12: =SUM(M12:O12) -> 0
P13: =SUM(M13:O13) -> 0
P14: =SUM(M14:O14) -> 0
P15: =SUM(M15:O15) -> 0
P16: =SUM(M16:O16) -> 0
P17: =SUM(M17:O17) -> 0
P18: =SUM(M18:O18) -> 0
P19: =SUM(M19:O19) -> 0
P20: =SUM(M20:O20) -> 0
... P23: =SUM(M23:O23) -> 0
A25: Összesen | I25: =SUM(I9:I23) -> 0 | J25: =SUM(J9:J23) -> 0 | K25: =SUM(K9:K23) -> 0 | L25: =SUM(L9:L23) -> 0 | M25: =SUM(M9:M23) -> 0 | N25: =SUM(N9:N23) -> 0 | O25: =SUM(O9:O23) -> 0 | P25: =SUM(P9:P23) -> 0

Sheet immat jav beszerz
A1: Kedvezményezett neve: | C1: ='Projekt azonosító'!E1 -> Moholy-Nagy Művészei Egyetem
A2: POC Szerződésszám: | C2: ='Projekt azonosító'!E2 -> 0
A3: Az elszámolással érintett időszak kezdete és vége: | C3: ='Projekt azonosító'!E3 -> 0
A5: IMMATERIÁLIS JAVAK BESZERZÉSE
A7: Sor-szám | B7: Számviteli bizonylat kiállítójának neve | C7: Adószáma | D7: Számviteli bizonylat sorszáma | E7: Kiállítás kelte | F7: Teljesítés dátuma | G7: Kifizetést igazoló bankkivonat dátuma | H7: Kifizetést igazoló bankkivonat száma | I7: Amortizációnál az elszámolt időszak | K7: amortizá-ciós kulcs % | L7: Gazdasági esemény rövid leírása | M7: Számla összege (Ft) | P7: Projekt terhére elszámolt költségek (Ft)
A8: szám | I8: kezdete (dátum) | J8: vége (dátum) | M8: Bruttó | N8: Nettó | O8: ÁFA | P8: Bruttó | Q8: Nettó | R8: ÁFA | S8: Összesen
A26: Összesen | M26: =SUM(M9:M25) -> 0 | N26: =SUM(N9:N25) -> 0 | O26: =SUM(O9:O25) -> 0 | P26: =SUM(P9:P25) -> 0 | Q26: =SUM(Q9:Q25) -> 0 | R26: =SUM(R9:R25) -> 0 | S26: =SUM(S9:S25) -> 0

Sheet műszaki berendezések
A1: Kedvezményezett neve: | C1: ='Projekt azonosító'!E1 -> Moholy-Nagy Művészei Egyetem
A2: POC Szerződésszám: | C2: ='Projekt azonosító'!E2 -> 0
A3: Az elszámolással érintett időszak kezdete és vége: | C3: ='Projekt azonosító'!E3 -> 0
A5: Műszaki berendezések, gépek, járművek
A7: Sor-szám | B7: Számviteli bizonylat kiállítójának neve | C7: Adószáma | D7: Számviteli bizonylat sorszáma | E7: Kiállítás kelte | F7: Teljesítés dátuma | G7: Kifizetést igazoló bankkivonat dátuma | H7: Kifizetést igazoló bankkivonat száma | I7: Amortizációnál az elszámolt időszak | K7: amortizá-ciós kulcs % | L7: Gazdasági esemény rövid leírása | M7: Számla összege (Ft) | P7: Projekt terhére elszámolt költségek (Ft)
A8: szám | I8: kezdete (dátum) | J8: vége (dátum) | M8: Bruttó | N8: Nettó | O8: ÁFA | P8: Bruttó | Q8: Nettó | R8: ÁFA | S8: Összesen
A9: 1 | S9: =P9 -> 0
S10: =SUM(P10:R10) -> 0
S11: =SUM(P11:R11) -> 0
S12: =SUM(P12:R12) -> 0
S13: =SUM(P13:R13) -> 0
S14: =SUM(P14:R14) -> 0
S15: =SUM(P15:R15) -> 0
S16: =SUM(P16:R16) -> 0
S17: =SUM(P17:R17) -> 0
S18: =SUM(P18:R18) -> 0
S19: =SUM(P19:R19) -> 0
S20: =SUM(P20:R20) -> 0
S21: =SUM(P21:R21) -> 0
... S23: =SUM(P23:R23) -> 0
A25: Összesen | M25: =SUM(M9:M24) -> 0 | N25: =SUM(N9:N24) -> 0 | O25: =SUM(O9:O24) -> 0 | P25: =SUM(P9:P24) -> 0 | Q25: =SUM(Q9:Q24) -> 0 | R25: =SUM(R9:R24) -> 0 | S25: =SUM(S9:S24) -> 0

Sheet egyéb berendezések
A1: Kedvezményezett neve: | C1: ='Projekt azonosító'!E1 -> Moholy-Nagy Művészei Egyetem
A2: POC Szerződésszám: | C2: ='Projekt azonosító'!E2 -> 0
A3: Az elszámolással érintett időszak kezdete és vége: | C3: ='Projekt azonosító'!E3 -> 0
A5: Egyéb berendezések, felszerelések, járművek
A7: Sor-szám | B7: Számviteli bizonylat kiállítójának neve | C7: Adószáma | D7: Számviteli bizonylat sorszáma | E7: Kiállítás kelte | F7: Teljesítés dátuma | G7: Kifizetést igazoló bankkivonat dátuma | H7: Kifizetést igazoló bankkivonat száma | I7: Amortizációnál az elszámolt időszak | K7: amortizá-ciós kulcs % | L7: Gazdasági esemény rövid leírása | M7: Számla összege (Ft) | P7: Projekt terhére elszámolt költségek (Ft)
A8: szám | I8: kezdete (dátum) | J8: vége (dátum) | M8: Bruttó | N8: Nettó | O8: ÁFA | P8: Bruttó | Q8: Nettó | R8: ÁFA | S8: Összesen
S9: =SUM(P9:R9) -> 0
S10: =SUM(P10:R10) -> 0
S11: =SUM(P11:R11) -> 0
S12: =SUM(P12:R12) -> 0
S13: =SUM(P13:R13) -> 0
S14: =SUM(P14:R14) -> 0
S15: =SUM(P15:R15) -> 0
S16: =SUM(P16:R16) -> 0
S17: =SUM(P17:R17) -> 0
S18: =SUM(P18:R18) -> 0
S19: =SUM(P19:R19) -> 0
S20: =SUM(P20:R20) -> 0
... S23: =SUM(P23:R23) -> 0
A25: Összesen | M25: =SUM(M9:M24) -> 0 | N25: =SUM(N9:N24) -> 0 | O25: =SUM(O9:O24) -> 0 | P25: =SUM(P9:P24) -> 0 | Q25: =SUM(Q9:Q24) -> 0 | R25: =SUM(R9:R24) -> 0 | S25: =SUM(S9:S24) -> 0

Sheet (LNY) lemondó nyilatkozat
A2: Egy példányban kitöltve, eredeti aláírással és bélyegzéssel ellátva kell benyújtani.
A7: Lemondó Nyilatkozat
A11: Kedvezményezett neve | B11: ='Projekt azonosító'!E1 -> Moholy-Nagy Művészei Egyetem
A12: POC Szerződésszám | B12: ='Projekt azonosító'!E2 -> 0
A13: Mérföldkő dátuma: | B13: ='Projekt azonosító'!E3 -> 0
A16: Alulírott Matheidesz Réka , mint a Moholy-Nagy Művészeti Egyetem társaság/szervezet cégjegyzésre jogosult vezetője nyilatkozom, hogy a fenti azonosító számú projekt megvalósításához a megítélt támogatásból összesen ......................,-Ft került felhasználásra. A fennmaradó ...........,- Ft támogatásból összesen ............,- Ft összeget a következő munkaszakasz(ok)ban kívánom felhasználni, és összesen ..................,- Ft összeget a továbbiakban nem kívánom igénybe venni, így arról lemondok.
A19: Budapest,
B23: ………………………………
B24: Kedvezményezett cégszerű *
B25: aláírása
B26: Ph.
A31: * Az aláírók nevét nyomtatott betűkkel is kérjük kitölteni

Sheet lemondás megoszlás
A1: Kedvezményezett neve: | D1: ='Projekt azonosító'!E1 -> Moholy-Nagy Művészei Egyetem
A2: POC Szerződésszám: | D2: ='Projekt azonosító'!E2 -> 0
A3: Az elszámolással érintett időszak kezdete és vége: | D3: ='Projekt azonosító'!E3 -> 0
A6: Lemondott támogatás összesítő
A8: Költség kategória | B8: Költség fajta | D8: Lemondott támogatás összege (Ft)
A9: Személyi jellegű juttatások | B9: Célfeladat/többletfeladat
B10: Megbízási szerződés
A11: Immateriális javak és dologi kiadások | B11: Immateriális javak
B12: Műszaki berendezések, gépek, járművek
B13: Egyéb berendezések, gépek, járművek
B14: Anyagköltség
B15: Igénybe vett szolgáltatások költségei
B16: Egyéb szolgáltatások költségei
A17: Összes lemondott támogatás (Ft)

Sheet (NYF)nyilatkozat függetlenségre
A2: Egy példányban kitöltve, eredeti aláírással és bélyegzéssel ellátva kell benyújtani.
A7: Nyilatkozat az összeférhetetlenségre vonatkozóan
A11: Kedvezményezett neve | B11: ='Projekt azonosító'!E1 -> Moholy-Nagy Művészei Egyetem
A12: POC Szerződésszám | B12: ='Projekt azonosító'!E2 -> 0
A13: Mérföldkő dátuma: | B13: ='Projekt azonosító'!E3 -> 0
A16: Alulírott Matheidesz Réka , mint a Moholy-Nagy Művészeti Egyetem társaság/szervezet cégjegyzésre jogosult vezetője büntető jogi felelősségem tudatában nyilatkozom, hogy a fenti azonosító számú támogatási szerződés alapján finanszírozott projekt megvalósításához igénybe vett szolgáltatások és beszerzések a szokásos piaci feltételeknek megfelelően, független felek között, a hivatkozott támogatási szerződésben, valamint ennek mellékleteiben foglalt előírások szerint jöttek létre.
A19: Budapest,
B23: ………………………………
B24: Kedvezményezett cégszerű *
B25: aláírása
B26: Ph.
A31: * Az aláírók nevét nyomtatott betűkkel is kérjük kitölteni

Sheet nyilatkozat a kettős elszámolás
A2: Egy példányban kitöltve, eredeti aláírással és bélyegzéssel ellátva kell benyújtani.
A7: Nyilatkozat a kettős finanszírozás elkerüléséről
A11: Kedvezményezett neve | B11: ='Projekt azonosító'!E1 -> Moholy-Nagy Művészei Egyetem
A12: POC Szerződésszám | B12: ='Projekt azonosító'!E2 -> 0
A13: Mérföldkő dátuma: | B13: ='Projekt azonosító'!E3 -> 0
A16: Alulírott Simon Ildikó, mint a Moholy-Nagy Művészeti Egyetem gazdasági vezetője/ cégjegyzésre jogosult vezetője nyilatkozom, hogy a fenti azonosító számú projekt megvalósításához a számlaösszesítőben szereplő azon tételek esetében, ahol raktári készlet felhasználálás valamint eszközök és immateriális javak amortiációjának elszámolása történt, a beszerzéshez kapcsolódóan korábban sem EU-s, sem hazai támogatás nem kapcsolódik.
A19: Budapest, ….........
B23: ………………………………
B24: Kedvezményezett cégszerű *
B25: aláírása
B26: Ph.
A31: * Az aláírók nevét nyomtatott betűkkel is kérjük kitölteni

Sheet támogatás típusai
A2: támogatás típus rövídítése | B2: támogatás típusa
A4: K+F/Alap. | B4: Alapkutatás | C4: Kutatás-fejlesztési projekthez nyújtott támogatás
A5: K+F/Alkalm. | B5: Alkalmazott (ipari) kutatás
A6: K+F/Kis.fejl. | B6: Kísérleti fejlesztés
A7: D.M./Közbesz. | B7: Közbeszerzés | C7: De minimis támogatás
A8: D.M./Koord. | B8: Koordinációs költség
A9: D.M./Tájék. | B9: Tájékoztatási költség
A10: D.M./Piac | B10: Piacra jutáshoz kapcsolódó költségek
A11: D.M./Iparjog | B11: Iparjogvédelemmel kapcsolatos költségek
A12: D.M./Rezsi | B12: Általános (rezsi) költségek
A13: Kut.infra.- b.r. | B13: Kutatási infrastruktúrához nyújtott beruházási támogatás | C13: Kutatási infrastruktúrához nyújtott beruházási támogatás
A14: Nem állami támogatás | B14: Nem állami támogatás
